BEGIN:VCALENDAR
VERSION:2.0
PRODID:-//Plone.org//NONSGML plone.app.event//EN
X-WR-TIMEZONE:US/Central
BEGIN:VEVENT
SUMMARY:Bingo
DTSTART;TZID=US/Central:20260221T180000
DTEND;TZID=US/Central:20260221T200000
DTSTAMP:20260425T193456Z
UID:ad0024c3b0424ec2b8bd69b905b3cf3f@saas_stack_varnish:6080
CONTACT:Chriss Adams\, 9034967311\, wfclibrary496@att.net
CREATED:20260115T225158Z
DESCRIPTION:Join us for some sweet treats and a fun game of bingo! All ben
 efiting your local library!
LAST-MODIFIED:20260115T225357Z
LOCATION:Wolfe City Public Library
URL:https://wolfecity.ploud.net/news-events/bingo
END:VEVENT
BEGIN:VTIMEZONE
TZID:US/Central
X-LIC-LOCATION:US/Central
BEGIN:STANDARD
DTSTART:20251102T010000
TZNAME:CST
TZOFFSETFROM:-0500
TZOFFSETTO:-0600
END:STANDARD
END:VTIMEZONE
END:VCALENDAR
