BEGIN:VCALENDAR
VERSION:2.0
PRODID:-//Plone.org//NONSGML plone.app.event//EN
X-WR-TIMEZONE:US/Central
BEGIN:VEVENT
SUMMARY:Daddy Daughter Dance
DTSTART;TZID=US/Central:20260424T183000
DTEND;TZID=US/Central:20260424T203000
DTSTAMP:20260425T193620Z
UID:b83f8995553742dcb3326845bffafc14@saas_stack_varnish:6080
CONTACT:Chriss Adams\, wfclibrary496@att.net
CREATED:20260115T225334Z
DESCRIPTION:Join the dancing and fun in our first annual Daddy Daughter Da
 nce\, benefiting the WCPL. Food to be served\, games to be played!
LAST-MODIFIED:20260331T180413Z
LOCATION:Webb Hill Country Club
URL:https://wolfecity.ploud.net/news-events/daddy-daughter-dance
END:VEVENT
BEGIN:VTIMEZONE
TZID:US/Central
X-LIC-LOCATION:US/Central
BEGIN:DAYLIGHT
DTSTART:20260308T030000
TZNAME:CDT
TZOFFSETFROM:-0600
TZOFFSETTO:-0500
END:DAYLIGHT
END:VTIMEZONE
END:VCALENDAR
